BEGIN:VCALENDAR
VERSION:2.0
PRODID:-//Puffs&#039;n&#039;Stuff / Jernigan&#039;s - ECPv6.1.4//NONSGML v1.0//EN
CALSCALE:GREGORIAN
METHOD:PUBLISH
X-ORIGINAL-URL:https://puffs-n-stuff.com
X-WR-CALDESC:Events for Puffs&#039;n&#039;Stuff / Jernigan&#039;s
REFRESH-INTERVAL;VALUE=DURATION:PT1H
X-Robots-Tag:noindex
X-PUBLISHED-TTL:PT1H
BEGIN:VTIMEZONE
TZID:America/Halifax
BEGIN:DAYLIGHT
TZOFFSETFROM:-0400
TZOFFSETTO:-0300
TZNAME:ADT
DTSTART:20200308T060000
END:DAYLIGHT
BEGIN:STANDARD
TZOFFSETFROM:-0300
TZOFFSETTO:-0400
TZNAME:AST
DTSTART:20201101T050000
END:STANDARD
END:VTIMEZONE
BEGIN:VEVENT
DTSTART;TZID=America/Halifax:20200207T180000
DTEND;TZID=America/Halifax:20200207T220000
DTSTAMP:20260423T200508
CREATED:20200110T165022Z
LAST-MODIFIED:20200110T174647Z
UID:8332-1581098400-1581112800@puffs-n-stuff.com
SUMMARY:AJ Fernandez Cigar Event & Pendleton Whiskeys Tasting
DESCRIPTION:Join us for an evening of cigars and whiskey featuring AJ Fernandez Cigars and Pendleton Bourbon and Rye! \nAJ Fernandez has for years produced some of the most popular Nicaraguan cigars and worked with many other brands for some truly unique blends. All AJ Fernandez cigars will be offered with the following special deals:\nBuy 4 cigars get 1 cigar free\nBuy 10 cigars get 3 cigars free\nBuy a box of cigars get 5 free cigars\nPlus accessories such as ash trays\, cutters\, and lighters! \nPendleton Canadian Bourbon is a oak barrel aged bourbon that has smooth yet complex flavors of honey\, butterscotch\, and bit of cinnamon at the end. The 1910 Rye is a rare 100% rye whiskey aged a minimum of 12 years in oak barrels. This rye has notes of spicy rye and tobacco\, smoothed out with hints of cherry and maple. Try a free sample of these whiskeys or in a cocktail at the bar!
URL:https://puffs-n-stuff.com/event/aj-fernandez-cigar-event-pendleton-whiskeys-tasting/
LOCATION:Jernigan’s\, The Galleria of Mount Lebanon - 1500 Washington Rd\, Pittsburgh\, Pennsylvania 15228
END:VEVENT
END:VCALENDAR