BEGIN:VCALENDAR
VERSION:2.0
PRODID:-//Puffs&#039;n&#039;Stuff / Jernigan&#039;s - ECPv6.1.4//NONSGML v1.0//EN
CALSCALE:GREGORIAN
METHOD:PUBLISH
X-WR-CALNAME:Puffs&#039;n&#039;Stuff / Jernigan&#039;s
X-ORIGINAL-URL:https://puffs-n-stuff.com
X-WR-CALDESC:Events for Puffs&#039;n&#039;Stuff / Jernigan&#039;s
REFRESH-INTERVAL;VALUE=DURATION:PT1H
X-Robots-Tag:noindex
X-PUBLISHED-TTL:PT1H
BEGIN:VTIMEZONE
TZID:America/Halifax
BEGIN:DAYLIGHT
TZOFFSETFROM:-0400
TZOFFSETTO:-0300
TZNAME:ADT
DTSTART:20200308T060000
END:DAYLIGHT
BEGIN:STANDARD
TZOFFSETFROM:-0300
TZOFFSETTO:-0400
TZNAME:AST
DTSTART:20201101T050000
END:STANDARD
END:VTIMEZONE
BEGIN:VEVENT
DTSTART;TZID=America/Halifax:20200227T180000
DTEND;TZID=America/Halifax:20200227T220000
DTSTAMP:20260423T184354
CREATED:20200220T023148Z
LAST-MODIFIED:20200220T023148Z
UID:8342-1582826400-1582840800@puffs-n-stuff.com
SUMMARY:7-20-4 Cigars Event & Woodford Reserve Flights!
DESCRIPTION:Cigars and whiskey flights!!! \n7-20-4 Cigar have been featured in the humidor and as the main attraction of the daily special at the bar… Now you have the chance to buy all your favorite blends at a discounted price! Haven’t tried them yet? Here is the perfect opportunity to do so because these deals will put FREE cigars in your hands! \nBuy 4 cigars\, get 1 cigar free\nBuy 7 cigars\, get 2 cigars free\nBuy 10 cigars\, get 3 cigars free\nSwag and accessories with any purchase of 7 or more cigars! \nAlong with sales on the cigars\, we will be introducing a new addition to our bar shelves\, Woodford Reserve Double Oaked Bourbon! A unique extra matured whiskey that is aged twice in two separately finished barrels to provide an incredibly smooth yet flavorful taste. This new addition to our Woodford Reserve selections make three of a kind\, and what better way to experience all the Woodford we have to offer than with a whiskey flight! We will be offering a pour of Woodford Reserve Bourbon\, Rye\, AND the Double Oaked for $23!
URL:https://puffs-n-stuff.com/event/7-20-4-cigars-event-woodford-reserve-flights/
LOCATION:Location: Puffs’n’Stuff\, 6302 Robinson Center Dr\, Pittsburgh\, Pennsylvania 15205\, Pittsburgh\, PA\, United States
END:VEVENT
END:VCALENDAR