BEGIN:VCALENDAR
VERSION:2.0
PRODID:-//Puffs&#039;n&#039;Stuff / Jernigan&#039;s - ECPv6.1.4//NONSGML v1.0//EN
CALSCALE:GREGORIAN
METHOD:PUBLISH
X-WR-CALNAME:Puffs&#039;n&#039;Stuff / Jernigan&#039;s
X-ORIGINAL-URL:https://puffs-n-stuff.com
X-WR-CALDESC:Events for Puffs&#039;n&#039;Stuff / Jernigan&#039;s
REFRESH-INTERVAL;VALUE=DURATION:PT1H
X-Robots-Tag:noindex
X-PUBLISHED-TTL:PT1H
BEGIN:VTIMEZONE
TZID:America/Halifax
BEGIN:DAYLIGHT
TZOFFSETFROM:-0400
TZOFFSETTO:-0300
TZNAME:ADT
DTSTART:20200308T060000
END:DAYLIGHT
BEGIN:STANDARD
TZOFFSETFROM:-0300
TZOFFSETTO:-0400
TZNAME:AST
DTSTART:20201101T050000
END:STANDARD
END:VTIMEZONE
BEGIN:VEVENT
DTSTART;TZID=America/Halifax:20200327T180000
DTEND;TZID=America/Halifax:20200327T220000
DTSTAMP:20260423T184317
CREATED:20200310T191235Z
LAST-MODIFIED:20200310T191235Z
UID:8346-1585332000-1585346400@puffs-n-stuff.com
SUMMARY:Gurkha Cigars Sales Event & Wild Turkey Kentucky Spirit Tasting
DESCRIPTION:Gurkha Cigars are known for a wide selection of premium blends that always provide what you’re looking for.  We were excited to finally add this brand into our humidors and even more excited to feature Gurkha as March’s Cigar of the Month.  Throughout all of this month a Gurkha cigar will be the main feature of the daily drink and cigar special at the bar\, and a dozen different cigars in various sizes are available for purchase from the humidors. \nOn Friday March 27th from 6 – 10 P.M. we will be offering all Gurkha blends at special discounts!\nBuy 4 cigars\, get 1 free\nBuy 7 cigars\, get 2 free\nBuy 10 cigars\, get 3 free and a Gurkha accessory\nBuy a box at 15% off and get 5 free! \nIf you pre order any box of Gurkha Cigars before the event or at the event\, you will receive an additional 5% off that box! Ask a retailer for more info! \nAlong with these special deals on cigars\, a tasting of Wild Turkey’s Kentucky Spirit Single Barrel Bourbon.  A full\, rich tasting flavor as one would expect from Wild Turkey\, but with a refined sweetness and a hint of vanilla due to the extra aging.  Try a free sample\, and order a full pour at the bar!
URL:https://puffs-n-stuff.com/event/gurkha-cigars-sales-event-wild-turkey-kentucky-spirit-tasting/
LOCATION:Jernigan’s\, The Galleria of Mount Lebanon - 1500 Washington Rd\, Pittsburgh\, Pennsylvania 15228
END:VEVENT
END:VCALENDAR