BEGIN:VCALENDAR
VERSION:2.0
PRODID:-//Puffs&#039;n&#039;Stuff / Jernigan&#039;s - ECPv6.1.4//NONSGML v1.0//EN
CALSCALE:GREGORIAN
METHOD:PUBLISH
X-ORIGINAL-URL:https://puffs-n-stuff.com
X-WR-CALDESC:Events for Puffs&#039;n&#039;Stuff / Jernigan&#039;s
REFRESH-INTERVAL;VALUE=DURATION:PT1H
X-Robots-Tag:noindex
X-PUBLISHED-TTL:PT1H
BEGIN:VTIMEZONE
TZID:America/Halifax
BEGIN:DAYLIGHT
TZOFFSETFROM:-0400
TZOFFSETTO:-0300
TZNAME:ADT
DTSTART:20230312T060000
END:DAYLIGHT
BEGIN:STANDARD
TZOFFSETFROM:-0300
TZOFFSETTO:-0400
TZNAME:AST
DTSTART:20231105T050000
END:STANDARD
END:VTIMEZONE
BEGIN:VEVENT
DTSTART;TZID=America/Halifax:20230827T130000
DTEND;TZID=America/Halifax:20230827T160000
DTSTAMP:20260421T005324
CREATED:20230811T172756Z
LAST-MODIFIED:20230814T135755Z
UID:9298-1693141200-1693152000@puffs-n-stuff.com
SUMMARY:Pittsburgh Cigar and Whiskey Friends Get Together
DESCRIPTION:Sunday August 27th @ 1pm \nPlease join us for a special event at the new Liberty Pole Spirits Distillery in Washington\, PA near the Meadows Casino and Racetrack. Directions>> \nWe will be pairing three different curated cigars to go with three different whiskeys from the distillery. The event involves smoking each cigar with a specific bourbon. You will be pairing with a wheated bourbon\, a special single barrel rye (108 proof selected by the owner of Liberty Pole Spirits!) just for this event\, and an award winning peated bourbon. You won’t want to miss this special event and due to venue seating is limited to the first 30 people to purchase tickets. \nFor only $53 (includes tip) you get the following experience:\n• 3 Unique Cigars that are selected for the pairing.\n• 3 (1 oz) pours (Wheated\, Rye\, Peated)\n• Discussion and walk through of the cigars and whiskeys tasting and maybe a surprise or two\n• Note: Available additional cigars\, bourbon pours\, and/or food (see Liberty Pole website) are al a cart additional\nWhen: Sunday August 27th from 1 PM to 4 PM. Please arrive at least 15 mins before 1 pm to receive your cigars and find seating before the program starts.\nWhere: The event is going to be held at Liberty Pole 800 Adios Dr\, Washington\, PA 15301 \nThis event is being organized by:\n• Pittsburgh Cigar Club\n• Pittsburgh Whiskey Friends\n• Liberty Pole Spirits\n• Jernigan’s / Puffs-n-Stuff Cigar store | Cigar bar\n\nBUY TICKETS ->
URL:https://puffs-n-stuff.com/event/pittsburgh-cigar-and-whiskey/
LOCATION:PA
ORGANIZER;CN="Liberty%20Pole":MAILTO:info@mingocreekcraftdistillers.com
END:VEVENT
BEGIN:VEVENT
DTSTART;TZID=America/Halifax:20230921T170000
DTEND;TZID=America/Halifax:20230921T210000
DTSTAMP:20260421T005324
CREATED:20230910T191527Z
LAST-MODIFIED:20230910T192003Z
UID:9332-1695315600-1695330000@puffs-n-stuff.com
SUMMARY:9/21 SINISTRO EVENT @JERNIGAN’S
DESCRIPTION:Introducing Sinistro Cigars out of the Dominican Republic!  \nThis boutique cigar company is well known in the western Pennsylvania region as one of the company owners lives just outside of Pittsburgh.\nWe are happy to have this company being represented at our Cigar Bars. \nTo kick-off the introduction\, we have two events lined up with Coleman Fine\, who is the brand co-owner. \nJOIN US FOR A CELEBRATION OF THE SINISTRO WITH THE BRAND CO-OWNER COLEMAN FINE \n📍September 21st\, 5-9 pm at Jernigan’s Mt. Leanon  \n📍September 22nd\, 5-9 pm at Puffs-n-Stuff Robinson  \nWe will be running a promotion: \n\nBuy 5 get 1 at no cost plus 1 raffle ticket for a chance to win Club Seats for Steelers/Ravens game\nBuy 10 get 3 at no cost plus 3 raffle tickets for a chance to win Club Seats for Steelers/Ravens game\nBuy 20 get 6 at no cost plus 10 raffle tickets for a chance to win Club Seats for Steelers/Ravens game plus Lighter and a T-shirt\n\n🏈🎫We will be raffling off two tickets to the Steelers/Ravens game taking place on Sunday\, October 8. You can get in on this raffle right now when you buy any five Sinistro Cigars. \n* Raffle tickets from both locations will be drawn during the second event at the Robinson location; you do not have to be present to win. \n 
URL:https://puffs-n-stuff.com/event/9-21-sinistro-event-jernigans/
LOCATION:Jernigan’s\, The Galleria of Mount Lebanon - 1500 Washington Rd\, Pittsburgh\, Pennsylvania 15228
ATTACH;FMTTYPE=image/png:https://puffs-n-stuff.com/wp-content/uploads/2023/09/SINISTRO.png
END:VEVENT
BEGIN:VEVENT
DTSTART;TZID=America/Halifax:20230922T170000
DTEND;TZID=America/Halifax:20230922T210000
DTSTAMP:20260421T005324
CREATED:20230910T191850Z
LAST-MODIFIED:20230910T191850Z
UID:9338-1695402000-1695416400@puffs-n-stuff.com
SUMMARY:9/22 SINISTRO EVENT @PUFFS-N-STUFF ROBINSON
DESCRIPTION:Introducing Sinistro Cigars out of the Dominican Republic!  \nThis boutique cigar company is well known in the western Pennsylvania region as one of the company owners lives just outside of Pittsburgh.\nWe are happy to have this company being represented at our Cigar Bars. \nTo kick-off the introduction\, we have two events lined up with Coleman Fine\, who is the brand co-owner. \nJOIN US FOR A CELEBRATION OF THE SINISTRO WITH THE BRAND CO-OWNER COLEMAN FINE \n📍September 21st\, 5-9 pm at Jernigan’s Mt. Leanon  \n📍September 22nd\, 5-9 pm at Puffs-n-Stuff Robinson  \nWe will be running a promotion: \n\nBuy 5 get 1 at no cost plus 1 raffle ticket for a chance to win Club Seats for Steelers/Ravens game\nBuy 10 get 3 at no cost plus 3 raffle tickets for a chance to win Club Seats for Steelers/Ravens game\nBuy 20 get 6 at no cost plus 10 raffle tickets for a chance to win Club Seats for Steelers/Ravens game plus Lighter and a T-shirt\n\n🏈🎫We will be raffling off two tickets to the Steelers/Ravens game taking place on Sunday\, October 8. You can get in on this raffle right now when you buy any five Sinistro Cigars. \n* Raffle tickets from both locations will be drawn during the second event at the Robinson location; you do not have to be present to win. \n 
URL:https://puffs-n-stuff.com/event/9-22-sinistro-event-puffs-n-stuff-robinson/
LOCATION:Location: Puffs’n’Stuff\, 6302 Robinson Center Dr\, Pittsburgh\, Pennsylvania 15205\, Pittsburgh\, PA\, United States
ATTACH;FMTTYPE=image/png:https://puffs-n-stuff.com/wp-content/uploads/2023/09/SINISTRO.png
END:VEVENT
END:VCALENDAR