BEGIN:VCALENDAR
VERSION:2.0
PRODID:-//Puffs&#039;n&#039;Stuff / Jernigan&#039;s - ECPv6.1.4//NONSGML v1.0//EN
CALSCALE:GREGORIAN
METHOD:PUBLISH
X-ORIGINAL-URL:https://puffs-n-stuff.com
X-WR-CALDESC:Events for Puffs&#039;n&#039;Stuff / Jernigan&#039;s
REFRESH-INTERVAL;VALUE=DURATION:PT1H
X-Robots-Tag:noindex
X-PUBLISHED-TTL:PT1H
BEGIN:VTIMEZONE
TZID:America/Halifax
BEGIN:DAYLIGHT
TZOFFSETFROM:-0400
TZOFFSETTO:-0300
TZNAME:ADT
DTSTART:20190310T060000
END:DAYLIGHT
BEGIN:STANDARD
TZOFFSETFROM:-0300
TZOFFSETTO:-0400
TZNAME:AST
DTSTART:20191103T050000
END:STANDARD
END:VTIMEZONE
BEGIN:VEVENT
DTSTART;TZID=America/Halifax:20191101T210000
DTEND;TZID=America/Halifax:20191102T000000
DTSTAMP:20260423T225725
CREATED:20191025T160318Z
LAST-MODIFIED:20191025T160318Z
UID:8318-1572642000-1572652800@puffs-n-stuff.com
SUMMARY:Halloween Costume Party with Dobel Tequila Tasting
DESCRIPTION:Spooky season is here! Come celebrate Halloween with us at our Jernigan’s Halloween Costume Party on November 1st\, from 9pm until midnight. With our featured fall cocktails\, special cocktail of the night\, and happy hour\, you’re bound to have a great time! Our staff will be dressed in costumes for the night and we encourage you to be as well for a chance to win a prize! \nOur Halloween Party is also having a tequila tasting\, featuring Maestro Dobel Diamante. The world’s first multi-aged tequila! A rule blend of Reposado\, Anejo & Extra Anejo Aged in the finest European oak barrels and double filtered to produce a crystal clear Tequila renowned for its character and smoothness.
URL:https://puffs-n-stuff.com/event/halloween-costume-party-with-dobel-tequila-tasting/
LOCATION:Jernigan’s\, The Galleria of Mount Lebanon - 1500 Washington Rd\, Pittsburgh\, Pennsylvania 15228
END:VEVENT
BEGIN:VEVENT
DTSTART;TZID=America/Halifax:20191115T200000
DTEND;TZID=America/Halifax:20191115T220000
DTSTAMP:20260423T225725
CREATED:20191104T225705Z
LAST-MODIFIED:20191104T225813Z
UID:8326-1573848000-1573855200@puffs-n-stuff.com
SUMMARY:Aberfeldy 12 Year Scotch Tasting
DESCRIPTION:This Thanksgiving season we have plenty to be thankful for! Join us Friday November 15th from 8-10 P.M.! \nAberfeldy 12 Year Scotch is a single malt that offers wonderfully balanced complexities.  While it starts with sweet fruit and vanilla notes on the front\, it ends with a smokey finish that changes the flavor and lingers on the palette.
URL:https://puffs-n-stuff.com/event/aberfeldy-12-year-scotch-tasting/
LOCATION:Jernigan’s\, The Galleria of Mount Lebanon - 1500 Washington Rd\, Pittsburgh\, Pennsylvania 15228
END:VEVENT
BEGIN:VEVENT
DTSTART;TZID=America/Halifax:20191121T170000
DTEND;TZID=America/Halifax:20191121T210000
DTSTAMP:20260423T225725
CREATED:20191104T230028Z
LAST-MODIFIED:20191104T230028Z
UID:8328-1574355600-1574370000@puffs-n-stuff.com
SUMMARY:Kristoff Cigars Sales Event
DESCRIPTION:This Thanksgiving season we have plenty to be thankful for! \nOver the past 15 years Kristoff Cigars have grown from a small boutique brand offering Cuban style Dominican cigars into a largely recognized name in the industry.  Their cigars are Dominican in origin but often incorporate other regions of tobacco to create flavorful\, well balanced cigars that smoke smooth every time you light one up. Customers who have been with us for a while will recognize the face of our old employee Bill Coyne\, who is now representing Kristoff Cigars in their Mid Atlantic Region! \nSpecial on cigars go from 5 – 9 P.M. and deals are as follows:\nBuy 4 cigars\, get 1 free!\nBuy 7 cigars\, get 2 free!\nBuy 10 cigars\, get 3 free!\nBuy a box of cigars\, get 6 cigars free!\nKristoff branded accessories will be given out along with these deals as well! Items available include hats\, lighters\, ash trays\, rocks glasses\, and shirts!
URL:https://puffs-n-stuff.com/event/kristoff-cigars-sales-event/
LOCATION:Jernigan’s\, The Galleria of Mount Lebanon - 1500 Washington Rd\, Pittsburgh\, Pennsylvania 15228
END:VEVENT
BEGIN:VEVENT
DTSTART;TZID=America/Halifax:20191122T180000
DTEND;TZID=America/Halifax:20191122T220000
DTSTAMP:20260423T225725
CREATED:20191104T225452Z
LAST-MODIFIED:20191104T225452Z
UID:8324-1574445600-1574460000@puffs-n-stuff.com
SUMMARY:Giving Thanks for Cigars & Whiskey
DESCRIPTION:This Thanksgiving season we have plenty to be thankful for! \nOn Friday November 22nd we will be hosting Kristoff Cigars for a special sales event along with free samplings of Yellowstone Bourbon and Aberfeldy 12 Year Sctoch! A little more about what we’re offering… \nOver the past 15 years Kristoff Cigars have grown from a small boutique brand offering Cuban style Dominican cigars into a largely recognized name in the industry.  Their cigars are Dominican in origin but often incorporate other regions of tobacco to create flavorful\, well balanced cigars that smoke smooth every time you light one up. Customers who have been with us for a while will recognize the face of our old employee Bill Coyne\, who is now representing Kristoff Cigars in their Mid Atlantic Region! \nYellowstone Bourbon appears as a deep\, golden color with a label that makes one think of more a traditional style whiskey. The taste delivers on that expectation and takes it a step further.  With smokey notes of oak and caramel\, this bourbon finishes with a rye spice that burns warm on the way down. \nAberfeldy 12 Year Scotch is a single malt that offers wonderfully balanced complexities.  While it starts with sweet fruit and vanilla notes on the front\, it ends with a smokey finish that changes the flavor and lingers on the palette. \nSpecial on cigars go from 6 – 10 P.M. and deals are as follows:\nBuy 4 cigars\, get 1 free!\nBuy 7 cigars\, get 2 free!\nBuy 10 cigars\, get 3 free!\nBuy a box of cigars\, get 6 cigars free!\nKristoff branded accessories will be given out along with these deals as well! Items available include hats\, lighters\, ash trays\, rocks glasses\, and shirts!
URL:https://puffs-n-stuff.com/event/giving-thanks-for-cigars-whiskey/
LOCATION:Location: Puffs’n’Stuff\, 6302 Robinson Center Dr\, Pittsburgh\, Pennsylvania 15205\, Pittsburgh\, PA\, United States
END:VEVENT
BEGIN:VEVENT
DTSTART;TZID=America/Halifax:20191123T200000
DTEND;TZID=America/Halifax:20191123T220000
DTSTAMP:20260423T225725
CREATED:20191104T230228Z
LAST-MODIFIED:20191104T230228Z
UID:8330-1574539200-1574546400@puffs-n-stuff.com
SUMMARY:Yellowstone Bourbon Tasting
DESCRIPTION:This Thanksgiving season we have plenty to be thankful for! \nYellowstone Bourbon appears as a deep\, golden color with a label that makes one think of more a traditional style whiskey. The taste delivers on that expectation and takes it a step further.  With smokey notes of oak and caramel\, this bourbon finishes with a rye spice that burns warm on the way down.
URL:https://puffs-n-stuff.com/event/yellowstone-bourbon-tasting/
LOCATION:Jernigan’s\, The Galleria of Mount Lebanon - 1500 Washington Rd\, Pittsburgh\, Pennsylvania 15228
END:VEVENT
END:VCALENDAR