BEGIN:VCALENDAR
VERSION:2.0
PRODID:-//Puffs&#039;n&#039;Stuff / Jernigan&#039;s - ECPv6.1.4//NONSGML v1.0//EN
CALSCALE:GREGORIAN
METHOD:PUBLISH
X-ORIGINAL-URL:https://puffs-n-stuff.com
X-WR-CALDESC:Events for Puffs&#039;n&#039;Stuff / Jernigan&#039;s
REFRESH-INTERVAL;VALUE=DURATION:PT1H
X-Robots-Tag:noindex
X-PUBLISHED-TTL:PT1H
BEGIN:VTIMEZONE
TZID:America/Halifax
BEGIN:DAYLIGHT
TZOFFSETFROM:-0400
TZOFFSETTO:-0300
TZNAME:ADT
DTSTART:20230312T060000
END:DAYLIGHT
BEGIN:STANDARD
TZOFFSETFROM:-0300
TZOFFSETTO:-0400
TZNAME:AST
DTSTART:20231105T050000
END:STANDARD
END:VTIMEZONE
BEGIN:VEVENT
DTSTART;TZID=America/Halifax:20230827T130000
DTEND;TZID=America/Halifax:20230827T160000
DTSTAMP:20260420T231736
CREATED:20230811T172756Z
LAST-MODIFIED:20230814T135755Z
UID:9298-1693141200-1693152000@puffs-n-stuff.com
SUMMARY:Pittsburgh Cigar and Whiskey Friends Get Together
DESCRIPTION:Sunday August 27th @ 1pm \nPlease join us for a special event at the new Liberty Pole Spirits Distillery in Washington\, PA near the Meadows Casino and Racetrack. Directions>> \nWe will be pairing three different curated cigars to go with three different whiskeys from the distillery. The event involves smoking each cigar with a specific bourbon. You will be pairing with a wheated bourbon\, a special single barrel rye (108 proof selected by the owner of Liberty Pole Spirits!) just for this event\, and an award winning peated bourbon. You won’t want to miss this special event and due to venue seating is limited to the first 30 people to purchase tickets. \nFor only $53 (includes tip) you get the following experience:\n• 3 Unique Cigars that are selected for the pairing.\n• 3 (1 oz) pours (Wheated\, Rye\, Peated)\n• Discussion and walk through of the cigars and whiskeys tasting and maybe a surprise or two\n• Note: Available additional cigars\, bourbon pours\, and/or food (see Liberty Pole website) are al a cart additional\nWhen: Sunday August 27th from 1 PM to 4 PM. Please arrive at least 15 mins before 1 pm to receive your cigars and find seating before the program starts.\nWhere: The event is going to be held at Liberty Pole 800 Adios Dr\, Washington\, PA 15301 \nThis event is being organized by:\n• Pittsburgh Cigar Club\n• Pittsburgh Whiskey Friends\n• Liberty Pole Spirits\n• Jernigan’s / Puffs-n-Stuff Cigar store | Cigar bar\n\nBUY TICKETS ->
URL:https://puffs-n-stuff.com/event/pittsburgh-cigar-and-whiskey/
LOCATION:PA
ORGANIZER;CN="Liberty%20Pole":MAILTO:info@mingocreekcraftdistillers.com
END:VEVENT
END:VCALENDAR